{
 "documentInfo": {
  "Category": "",
  "Keywords": "outside,areas",
  "Version": "2.9.0",
  "Comments": "",
  "AntialiasingMode": "Fast",
  "Title": "Map",
  "Author": "",
  "TextAntialiasingMode": "Force",
  "Subject": ""
 },
 "maxImageWidth": 4096,
 "wmtsScaleFactor": 0.00091863333333344881,
 "maxRecordCount": 2000,
 "tileInfo": {
  "lods": [
   {
    "level": 0,
    "scale": 506880,
    "resolution": 440
   },
   {
    "level": 1,
    "scale": 253440,
    "resolution": 220
   },
   {
    "level": 2,
    "scale": 126720,
    "resolution": 110
   },
   {
    "level": 3,
    "scale": 63360,
    "resolution": 55
   },
   {
    "level": 4,
    "scale": 38400,
    "resolution": 33.333333333333329
   },
   {
    "level": 5,
    "scale": 19200,
    "resolution": 16.666666666666664
   }
  ],
  "origin": {
   "x": -115860600,
   "y": 151575000
  },
  "format": "PNG32",
  "compressionQuality": 0,
  "rows": 256,
  "dpi": 96,
  "spatialReference": {
   "falseM": -100000,
   "xyTolerance": 0.0010240000009536748,
   "mUnits": 10000,
   "zUnits": 1,
   "latestWkid": 2227,
   "zTolerance": 2,
   "wkid": 102643,
   "xyUnits": 36787427.3456867114,
   "mTolerance": 2,
   "falseX": -115860600,
   "falseY": -93269500,
   "falseZ": 0
  },
  "cols": 256
 },
 "description": "",
 "datesInUnknownTimezone": false,
 "supportsQueryDomains": true,
 "units": "esriFeet",
 "maxSelectionCount": 2000,
 "supportedImageFormatTypes": "PNG32,PNG24,PNG,JPG,DIB,TIFF,EMF,PS,PDF,GIF,SVG,SVGZ,BMP",
 "supportsClipping": true,
 "exportTilesAllowed": false,
 "maxImageHeight": 4096,
 "tables": [],
 "hasVersionedData": false,
 "supportsDatumTransformation": true,
 "cimVersion": "3.7.0",
 "supportsQueryDataElements": true,
 "layers": [
  {
   "subLayerIds": null,
   "maxScale": 19200,
   "name": "outside_cities_erase",
   "defaultVisibility": true,
   "id": 0,
   "minScale": 0,
   "supportsDynamicLegends": true,
   "type": "Feature Layer",
   "parentLayerId": -1,
   "geometryType": "esriGeometryPoint"
  },
  {
   "subLayerIds": null,
   "maxScale": 19200,
   "name": "outside_airports",
   "defaultVisibility": true,
   "id": 1,
   "minScale": 0,
   "supportsDynamicLegends": true,
   "type": "Feature Layer",
   "parentLayerId": -1,
   "geometryType": "esriGeometryPoint"
  },
  {
   "subLayerIds": null,
   "maxScale": 0,
   "name": "outside_mjr_rds_Erase",
   "defaultVisibility": true,
   "id": 2,
   "minScale": 0,
   "supportsDynamicLegends": true,
   "type": "Feature Layer",
   "parentLayerId": -1,
   "geometryType": "esriGeometryPolyline"
  },
  {
   "subLayerIds": null,
   "maxScale": 19200,
   "name": "outside_rr_erase",
   "defaultVisibility": true,
   "id": 3,
   "minScale": 0,
   "supportsDynamicLegends": true,
   "type": "Feature Layer",
   "parentLayerId": -1,
   "geometryType": "esriGeometryPolyline"
  },
  {
   "subLayerIds": null,
   "maxScale": 253440,
   "name": "outside_rivers_Erase",
   "defaultVisibility": true,
   "id": 4,
   "minScale": 0,
   "supportsDynamicLegends": true,
   "type": "Feature Layer",
   "parentLayerId": -1,
   "geometryType": "esriGeometryPolyline"
  },
  {
   "subLayerIds": null,
   "maxScale": 0,
   "name": "outside_water_body_erase",
   "defaultVisibility": true,
   "id": 5,
   "minScale": 0,
   "supportsDynamicLegends": true,
   "type": "Feature Layer",
   "parentLayerId": -1,
   "geometryType": "esriGeometryPolygon"
  },
  {
   "subLayerIds": null,
   "maxScale": 19200,
   "name": "outside_parks",
   "defaultVisibility": true,
   "id": 6,
   "minScale": 0,
   "supportsDynamicLegends": true,
   "type": "Feature Layer",
   "parentLayerId": -1,
   "geometryType": "esriGeometryPolygon"
  },
  {
   "subLayerIds": null,
   "maxScale": 19200,
   "name": "outside_urban_areas_Erase",
   "defaultVisibility": true,
   "id": 7,
   "minScale": 0,
   "supportsDynamicLegends": true,
   "type": "Feature Layer",
   "parentLayerId": -1,
   "geometryType": "esriGeometryPolygon"
  },
  {
   "subLayerIds": null,
   "maxScale": 0,
   "name": "outside_forests_Erase",
   "defaultVisibility": true,
   "id": 8,
   "minScale": 0,
   "supportsDynamicLegends": true,
   "type": "Feature Layer",
   "parentLayerId": -1,
   "geometryType": "esriGeometryPolygon"
  },
  {
   "subLayerIds": null,
   "maxScale": 63360,
   "name": "outside_counties_erase",
   "defaultVisibility": true,
   "id": 9,
   "minScale": 0,
   "supportsDynamicLegends": true,
   "type": "Feature Layer",
   "parentLayerId": -1,
   "geometryType": "esriGeometryPolygon"
  },
  {
   "subLayerIds": null,
   "maxScale": 0,
   "name": "outside_ocean_background",
   "defaultVisibility": true,
   "id": 10,
   "minScale": 0,
   "supportsDynamicLegends": true,
   "type": "Feature Layer",
   "parentLayerId": -1,
   "geometryType": "esriGeometryPolygon"
  }
 ],
 "mapName": "Map",
 "minScale": 506880,
 "archivingInfo": {
  "supportsHistoricMoment": false
 },
 "spatialReference": {
  "falseM": -100000,
  "xyTolerance": 0.0032808333333333331,
  "mUnits": 10000,
  "zUnits": 10000,
  "latestWkid": 2227,
  "zTolerance": 0.001,
  "wkid": 102643,
  "xyUnits": 3048.00609601219276,
  "mTolerance": 0.001,
  "falseX": -115860600,
  "falseY": -93269500,
  "falseZ": -100000
 },
 "tileImageInfo": {
  "bandCount": 1,
  "lercError": 0,
  "format": "PNG32",
  "compressionQuality": 0
 },
 "fullExtent": {
  "ymin": 1176788.5263365209,
  "xmin": 5324710.3008106947,
  "ymax": 2872044.1292568594,
  "xmax": 8061456.5960079432,
  "spatialReference": {
   "falseM": -100000,
   "xyTolerance": 0.0032808333333333331,
   "mUnits": 10000,
   "zUnits": 10000,
   "latestWkid": 2227,
   "zTolerance": 0.001,
   "wkid": 102643,
   "xyUnits": 3048.00609601219276,
   "mTolerance": 0.001,
   "falseX": -115860600,
   "falseY": -93269500,
   "falseZ": -100000
  }
 },
 "supportedExtensions": "",
 "serviceItemId": "9b8a81bac39a40a5a73e4f5dae20f213",
 "capabilities": "Map,Query,Data",
 "supportsDynamicLayers": true,
 "maxScale": 19200,
 "singleFusedMapCache": true,
 "currentVersion": 12.1,
 "storageInfo": {
  "storageFormat": "esriMapCacheStorageModeCompactV2",
  "packetSize": 128
 },
 "hasBranchVersionedData": false,
 "mapUnits": {
  "uwkid": 9003
 },
 "referenceScale": 0,
 "supportsSpatialFilter": true,
 "maxLOD": 5,
 "minLOD": 0,
 "supportedQueryFormats": "JSON, geoJSON, PBF",
 "initialExtent": {
  "ymin": 1683330.8106708904,
  "xmin": 5998428.0072646476,
  "ymax": 2239239.0137958913,
  "xmax": 6771209.0402507596,
  "spatialReference": {
   "falseM": -100000,
   "xyTolerance": 0.0032808333333333331,
   "mUnits": 10000,
   "zUnits": 10000,
   "latestWkid": 2227,
   "zTolerance": 0.001,
   "wkid": 102643,
   "xyUnits": 3048.00609601219276,
   "mTolerance": 0.001,
   "falseX": -115860600,
   "falseY": -93269500,
   "falseZ": -100000
  }
 },
 "serviceDescription": "",
 "copyrightText": "",
 "supportsTimeRelation": true
}
