{
 "documentInfo": {
  "Category": "",
  "Keywords": "aerial",
  "Version": "2.9.0",
  "Comments": "",
  "AntialiasingMode": "Fast",
  "Title": "Map",
  "Author": "",
  "TextAntialiasingMode": "Force",
  "Subject": ""
 },
 "maxImageWidth": 4096,
 "wmtsScaleFactor": 0.00091863333333344881,
 "maxRecordCount": 2000,
 "tileInfo": {
  "lods": [
   {
    "level": 0,
    "scale": 506880,
    "resolution": 440
   },
   {
    "level": 1,
    "scale": 253440,
    "resolution": 220
   },
   {
    "level": 2,
    "scale": 126720,
    "resolution": 110
   },
   {
    "level": 3,
    "scale": 63360,
    "resolution": 55
   },
   {
    "level": 4,
    "scale": 38400,
    "resolution": 33.333333333333329
   },
   {
    "level": 5,
    "scale": 19200,
    "resolution": 16.666666666666664
   },
   {
    "level": 6,
    "scale": 9600,
    "resolution": 8.3333333333333321
   },
   {
    "level": 7,
    "scale": 4800,
    "resolution": 4.1666666666666661
   },
   {
    "level": 8,
    "scale": 2400,
    "resolution": 2.083333333333333
   },
   {
    "level": 9,
    "scale": 1200,
    "resolution": 1.0416666666666665
   },
   {
    "level": 10,
    "scale": 500,
    "resolution": 0.43402777777777773
   }
  ],
  "origin": {
   "x": -121983337.7909123,
   "y": 152923508.59266722
  },
  "format": "PNG8",
  "compressionQuality": 0,
  "rows": 256,
  "dpi": 96,
  "spatialReference": {
   "falseM": -100000,
   "xyTolerance": 0.0010240000009536748,
   "mUnits": 10000,
   "zUnits": 1,
   "latestWkid": 2227,
   "zTolerance": 2,
   "wkid": 102643,
   "xyUnits": 35889940.5915489867,
   "mTolerance": 2,
   "falseX": -121983337.7909123,
   "falseY": -98043729.1982450783,
   "falseZ": 0
  },
  "cols": 256
 },
 "description": "",
 "datesInUnknownTimezone": false,
 "supportsQueryDomains": true,
 "units": "esriFeet",
 "maxSelectionCount": 2000,
 "supportedImageFormatTypes": "PNG32,PNG24,PNG,JPG,DIB,TIFF,EMF,PS,PDF,GIF,SVG,SVGZ,BMP",
 "supportsClipping": true,
 "exportTilesAllowed": false,
 "maxImageHeight": 4096,
 "tables": [],
 "hasVersionedData": false,
 "supportsDatumTransformation": true,
 "cimVersion": "3.7.0",
 "supportsQueryDataElements": true,
 "layers": [
  {
   "subLayerIds": null,
   "maxScale": 0,
   "name": "ModestoAerial2022.jp2",
   "defaultVisibility": true,
   "id": 1,
   "minScale": 0,
   "supportsDynamicLegends": true,
   "type": "Raster Layer",
   "parentLayerId": -1
  }
 ],
 "mapName": "Map",
 "minScale": 506880,
 "archivingInfo": {
  "supportsHistoricMoment": false
 },
 "spatialReference": {
  "falseM": -100000,
  "xyTolerance": 0.0032808333333333331,
  "mUnits": 10000,
  "zUnits": 10000,
  "latestWkid": 2227,
  "zTolerance": 0.001,
  "wkid": 102643,
  "xyUnits": 3048.00609601219276,
  "mTolerance": 0.001,
  "falseX": -115860600,
  "falseY": -93269500,
  "falseZ": -100000
 },
 "tileImageInfo": {
  "bandCount": 1,
  "lercError": 0,
  "format": "PNG8",
  "compressionQuality": 0
 },
 "fullExtent": {
  "ymin": 2034305,
  "xmin": 6388048,
  "ymax": 2102945,
  "xmax": 6451408,
  "spatialReference": {
   "falseM": -100000,
   "xyTolerance": 0.0032808333333333331,
   "mUnits": 10000,
   "zUnits": 10000,
   "latestWkid": 2227,
   "zTolerance": 0.001,
   "wkid": 102643,
   "xyUnits": 3048.00609601219276,
   "mTolerance": 0.001,
   "falseX": -115860600,
   "falseY": -93269500,
   "falseZ": -100000
  }
 },
 "supportedExtensions": "",
 "serviceItemId": "e316ce313e48497d8927ba651b7407f0",
 "capabilities": "Query,Map,Data",
 "supportsDynamicLayers": true,
 "maxScale": 500,
 "singleFusedMapCache": true,
 "currentVersion": 12.1,
 "storageInfo": {
  "storageFormat": "esriMapCacheStorageModeCompactV2",
  "packetSize": 128
 },
 "hasBranchVersionedData": false,
 "mapUnits": {
  "uwkid": 9003
 },
 "referenceScale": 0,
 "floorAwareMapProperties": {
  "defaultFloorFilterSettings": {
   "isEnabled": false
  }
 },
 "supportsSpatialFilter": true,
 "maxLOD": 10,
 "minLOD": 0,
 "supportedQueryFormats": "JSON, geoJSON, PBF",
 "datumTransformations": [
  {
   "geoTransforms": [
    {
     "latestWkid": 108190,
     "transformForward": true,
     "wkid": 108190,
     "name": "WGS_1984_(ITRF00)_To_NAD_1983"
    }
   ]
  },
  {
   "geoTransforms": [
    {
     "latestWkid": 108190,
     "transformForward": false,
     "wkid": 108190,
     "name": "WGS_1984_(ITRF00)_To_NAD_1983"
    }
   ]
  }
 ],
 "initialExtent": {
  "ymin": 2030873,
  "xmin": 6362344.96,
  "ymax": 2106377,
  "xmax": 6477111.04,
  "spatialReference": {
   "falseM": -100000,
   "xyTolerance": 0.0032808333333333331,
   "mUnits": 10000,
   "zUnits": 10000,
   "latestWkid": 2227,
   "zTolerance": 0.001,
   "wkid": 102643,
   "xyUnits": 3048.00609601219276,
   "mTolerance": 0.001,
   "falseX": -115860600,
   "falseY": -93269500,
   "falseZ": -100000
  }
 },
 "serviceDescription": "",
 "copyrightText": "",
 "supportsTimeRelation": true
}
