{
 "documentInfo": {
  "Category": "",
  "Keywords": "2016 aerial,pond",
  "Version": "3.4.0",
  "Comments": "",
  "AntialiasingMode": "Fast",
  "Title": "Map",
  "Author": "",
  "TextAntialiasingMode": "Force",
  "Subject": ""
 },
 "maxImageWidth": 4096,
 "wmtsScaleFactor": 0.00091863333333344881,
 "maxRecordCount": 2000,
 "tileInfo": {
  "lods": [
   {
    "level": 0,
    "scale": 506880,
    "resolution": 440
   },
   {
    "level": 1,
    "scale": 253440,
    "resolution": 220
   },
   {
    "level": 2,
    "scale": 126720,
    "resolution": 110
   },
   {
    "level": 3,
    "scale": 63360,
    "resolution": 55
   },
   {
    "level": 4,
    "scale": 38400,
    "resolution": 33.333333333333329
   },
   {
    "level": 5,
    "scale": 19200,
    "resolution": 16.666666666666664
   },
   {
    "level": 6,
    "scale": 9600,
    "resolution": 8.3333333333333321
   },
   {
    "level": 7,
    "scale": 4800,
    "resolution": 4.1666666666666661
   },
   {
    "level": 8,
    "scale": 2400,
    "resolution": 2.083333333333333
   },
   {
    "level": 9,
    "scale": 1200,
    "resolution": 1.0416666666666665
   },
   {
    "level": 10,
    "scale": 500,
    "resolution": 0.43402777777777773
   }
  ],
  "origin": {
   "x": -121983337.7909123,
   "y": 152923508.59266722
  },
  "format": "PNG8",
  "compressionQuality": 0,
  "rows": 256,
  "dpi": 96,
  "spatialReference": {
   "falseM": -100000,
   "xyTolerance": 0.0010240000009536748,
   "mUnits": 10000,
   "zUnits": 1,
   "latestWkid": 2227,
   "zTolerance": 2,
   "wkid": 102643,
   "xyUnits": 35889940.5915489867,
   "mTolerance": 2,
   "falseX": -121983337.7909123,
   "falseY": -98043729.1982450783,
   "falseZ": 0
  },
  "cols": 256
 },
 "description": "",
 "datesInUnknownTimezone": false,
 "supportsQueryDomains": true,
 "units": "esriFeet",
 "maxSelectionCount": 2000,
 "supportedImageFormatTypes": "PNG32,PNG24,PNG,JPG,DIB,TIFF,EMF,PS,PDF,GIF,SVG,SVGZ,BMP",
 "supportsClipping": true,
 "exportTilesAllowed": false,
 "maxImageHeight": 4096,
 "tables": [],
 "hasVersionedData": false,
 "supportsDatumTransformation": true,
 "cimVersion": "3.7.0",
 "supportsQueryDataElements": true,
 "layers": [
  {
   "subLayerIds": null,
   "maxScale": 0,
   "name": "City_of_Modesto_2016_Aerial_Pond",
   "defaultVisibility": true,
   "id": 0,
   "minScale": 0,
   "supportsDynamicLegends": true,
   "type": "Raster Layer",
   "parentLayerId": -1
  }
 ],
 "mapName": "Map",
 "minScale": 506880,
 "archivingInfo": {
  "supportsHistoricMoment": false
 },
 "spatialReference": {
  "falseM": -100000,
  "xyTolerance": 0.0032808333333333331,
  "mUnits": 10000,
  "zUnits": 10000,
  "latestWkid": 2227,
  "zTolerance": 0.001,
  "wkid": 102643,
  "xyUnits": 3048.00609601219276,
  "mTolerance": 0.001,
  "falseX": -115860600,
  "falseY": -93269500,
  "falseZ": -100000
 },
 "tileImageInfo": {
  "bandCount": 1,
  "lercError": 0,
  "format": "PNG8",
  "compressionQuality": 0
 },
 "fullExtent": {
  "ymin": 1992084.001156644,
  "xmin": 6381451.9959058166,
  "ymax": 2023764.251156644,
  "xmax": 6407851.9959058166,
  "spatialReference": {
   "falseM": -100000,
   "xyTolerance": 0.0032808333333333331,
   "mUnits": 10000,
   "zUnits": 10000,
   "latestWkid": 2227,
   "zTolerance": 0.001,
   "wkid": 102643,
   "xyUnits": 3048.00609601219276,
   "mTolerance": 0.001,
   "falseX": -115860600,
   "falseY": -93269500,
   "falseZ": -100000
  }
 },
 "supportedExtensions": "",
 "serviceItemId": "91aefea0111843b493b7baf7084a99d5",
 "capabilities": "Query,Map,Data",
 "supportsDynamicLayers": true,
 "maxScale": 500,
 "singleFusedMapCache": true,
 "currentVersion": 12.1,
 "storageInfo": {
  "storageFormat": "esriMapCacheStorageModeCompactV2",
  "packetSize": 128
 },
 "hasBranchVersionedData": false,
 "mapUnits": {
  "uwkid": 9003
 },
 "referenceScale": 0,
 "supportsSpatialFilter": true,
 "maxLOD": 10,
 "minLOD": 0,
 "supportedQueryFormats": "JSON, geoJSON, PBF",
 "initialExtent": {
  "ymin": 1992729.7894934597,
  "xmin": 6371664.3663986381,
  "ymax": 2024089.0129585015,
  "xmax": 6416576.5416140892,
  "spatialReference": {
   "falseM": -100000,
   "xyTolerance": 0.0032808333333333331,
   "mUnits": 10000,
   "zUnits": 10000,
   "latestWkid": 2227,
   "zTolerance": 0.001,
   "wkid": 102643,
   "xyUnits": 3048.00609601219276,
   "mTolerance": 0.001,
   "falseX": -115860600,
   "falseY": -93269500,
   "falseZ": -100000
  }
 },
 "serviceDescription": "",
 "copyrightText": "",
 "supportsTimeRelation": true
}
