{
 "documentInfo": {
  "Category": "",
  "Keywords": "Basemap",
  "Version": "3.4.0",
  "Comments": "Basemap",
  "AntialiasingMode": "Fast",
  "Title": "BaseMapService",
  "Author": "",
  "TextAntialiasingMode": "Force",
  "Subject": "Basemap"
 },
 "maxImageWidth": 4096,
 "wmtsScaleFactor": 0.00091863333333344881,
 "maxRecordCount": 2000,
 "tileInfo": {
  "lods": [
   {
    "level": 0,
    "scale": 506880,
    "resolution": 440
   },
   {
    "level": 1,
    "scale": 253440,
    "resolution": 220
   },
   {
    "level": 2,
    "scale": 126720,
    "resolution": 110
   },
   {
    "level": 3,
    "scale": 63360,
    "resolution": 55
   },
   {
    "level": 4,
    "scale": 38400,
    "resolution": 33.333333333333329
   },
   {
    "level": 5,
    "scale": 19200,
    "resolution": 16.666666666666664
   },
   {
    "level": 6,
    "scale": 9600,
    "resolution": 8.3333333333333321
   },
   {
    "level": 7,
    "scale": 4800,
    "resolution": 4.1666666666666661
   },
   {
    "level": 8,
    "scale": 2400,
    "resolution": 2.083333333333333
   },
   {
    "level": 9,
    "scale": 1200,
    "resolution": 1.0416666666666665
   },
   {
    "level": 10,
    "scale": 500,
    "resolution": 0.43402777777777773
   }
  ],
  "origin": {
   "x": -121983337.7909123,
   "y": 152923508.59266722
  },
  "format": "PNG8",
  "compressionQuality": 0,
  "rows": 256,
  "dpi": 96,
  "spatialReference": {
   "falseM": -100000,
   "xyTolerance": 0.0010240000009536748,
   "mUnits": 10000,
   "zUnits": 1,
   "latestWkid": 2227,
   "zTolerance": 2,
   "wkid": 102643,
   "xyUnits": 35889940.5915489867,
   "mTolerance": 2,
   "falseX": -121983337.7909123,
   "falseY": -98043729.1982450783,
   "falseZ": 0
  },
  "cols": 256
 },
 "description": "Basemap",
 "datesInUnknownTimezone": false,
 "supportsQueryDomains": true,
 "units": "esriFeet",
 "maxSelectionCount": 2000,
 "supportedImageFormatTypes": "PNG32,PNG24,PNG,JPG,DIB,TIFF,EMF,PS,PDF,GIF,SVG,SVGZ,BMP",
 "supportsClipping": true,
 "exportTilesAllowed": false,
 "maxImageHeight": 4096,
 "tables": [],
 "hasVersionedData": true,
 "supportsDatumTransformation": true,
 "cimVersion": "3.7.0",
 "supportsQueryDataElements": true,
 "layers": [
  {
   "subLayerIds": null,
   "maxScale": 0,
   "name": "RR",
   "defaultVisibility": true,
   "id": 0,
   "minScale": 100000,
   "supportsDynamicLegends": true,
   "type": "Feature Layer",
   "parentLayerId": -1,
   "geometryType": "esriGeometryPolyline"
  },
  {
   "subLayerIds": null,
   "maxScale": 19200,
   "name": "highways",
   "defaultVisibility": true,
   "id": 1,
   "minScale": 0,
   "supportsDynamicLegends": true,
   "type": "Feature Layer",
   "parentLayerId": -1,
   "geometryType": "esriGeometryPolyline"
  },
  {
   "subLayerIds": null,
   "maxScale": 0,
   "name": "highways Buffer",
   "defaultVisibility": true,
   "id": 2,
   "minScale": 19199,
   "supportsDynamicLegends": true,
   "type": "Feature Layer",
   "parentLayerId": -1,
   "geometryType": "esriGeometryPolyline"
  },
  {
   "subLayerIds": null,
   "maxScale": 19200,
   "name": "All Roads",
   "defaultVisibility": true,
   "id": 3,
   "minScale": 253339,
   "supportsDynamicLegends": true,
   "type": "Feature Layer",
   "parentLayerId": -1,
   "geometryType": "esriGeometryPolyline"
  },
  {
   "subLayerIds": null,
   "maxScale": 253440,
   "name": "Major Roads",
   "defaultVisibility": true,
   "id": 4,
   "minScale": 0,
   "supportsDynamicLegends": true,
   "type": "Feature Layer",
   "parentLayerId": -1,
   "geometryType": "esriGeometryPolyline"
  },
  {
   "subLayerIds": null,
   "maxScale": 0,
   "name": "All Roads Buffer",
   "defaultVisibility": true,
   "id": 5,
   "minScale": 19199,
   "supportsDynamicLegends": true,
   "type": "Feature Layer",
   "parentLayerId": -1,
   "geometryType": "esriGeometryPolyline"
  },
  {
   "subLayerIds": null,
   "maxScale": 0,
   "name": "Building Footprint",
   "defaultVisibility": true,
   "id": 6,
   "minScale": 2400,
   "supportsDynamicLegends": true,
   "type": "Feature Layer",
   "parentLayerId": -1,
   "geometryType": "esriGeometryPolygon"
  },
  {
   "subLayerIds": null,
   "maxScale": 0,
   "name": "Parcels",
   "defaultVisibility": true,
   "id": 7,
   "minScale": 9600,
   "supportsDynamicLegends": true,
   "type": "Feature Layer",
   "parentLayerId": -1,
   "geometryType": "esriGeometryPolygon"
  },
  {
   "subLayerIds": null,
   "maxScale": 0,
   "name": "Creeks",
   "defaultVisibility": true,
   "id": 8,
   "minScale": 100000,
   "supportsDynamicLegends": true,
   "type": "Feature Layer",
   "parentLayerId": -1,
   "geometryType": "esriGeometryPolyline"
  },
  {
   "subLayerIds": null,
   "maxScale": 0,
   "name": "Rivers",
   "defaultVisibility": true,
   "id": 9,
   "minScale": 100000,
   "supportsDynamicLegends": true,
   "type": "Feature Layer",
   "parentLayerId": -1,
   "geometryType": "esriGeometryPolyline"
  }
 ],
 "mapName": "Layers",
 "minScale": 506880,
 "archivingInfo": {
  "supportsHistoricMoment": false
 },
 "spatialReference": {
  "falseM": -100000,
  "xyTolerance": 0.0010240000009536748,
  "mUnits": 10000,
  "zUnits": 1,
  "latestWkid": 2227,
  "zTolerance": 2,
  "wkid": 102643,
  "xyUnits": 35889940.5915489867,
  "mTolerance": 2,
  "falseX": -121983337.7909123,
  "falseY": -98043729.1982450783,
  "falseZ": 0
 },
 "tileImageInfo": {
  "bandCount": 1,
  "lercError": 0,
  "format": "PNG8",
  "compressionQuality": 0
 },
 "fullExtent": {
  "ymin": 1872217.1577861458,
  "xmin": 6275211.9175201356,
  "ymax": 2215083.9648333043,
  "xmax": 6594155.8183449656,
  "spatialReference": {
   "falseM": -100000,
   "xyTolerance": 0.0010240000009536748,
   "mUnits": 10000,
   "zUnits": 1,
   "latestWkid": 2227,
   "zTolerance": 2,
   "wkid": 102643,
   "xyUnits": 35889940.5915489867,
   "mTolerance": 2,
   "falseX": -121983337.7909123,
   "falseY": -98043729.1982450783,
   "falseZ": 0
  }
 },
 "supportedExtensions": "",
 "serviceItemId": "c35c1f9e3e71426385a6d57cff08d02d",
 "capabilities": "Map,Query,Data",
 "supportsDynamicLayers": true,
 "maxScale": 500,
 "singleFusedMapCache": true,
 "currentVersion": 12.1,
 "storageInfo": {
  "storageFormat": "esriMapCacheStorageModeCompactV2",
  "packetSize": 128
 },
 "resampling": false,
 "hasBranchVersionedData": false,
 "mapUnits": {
  "uwkid": 9003
 },
 "referenceScale": 0,
 "floorAwareMapProperties": {
  "defaultFloorFilterSettings": {
   "isEnabled": false
  }
 },
 "supportsSpatialFilter": true,
 "maxLOD": 10,
 "supportedQueryFormats": "JSON, geoJSON, PBF",
 "datumTransformations": [
  {
   "geoTransforms": [
    {
     "latestWkid": 1241,
     "transformForward": true,
     "wkid": 108001,
     "name": "NAD_1927_To_NAD_1983_NADCON"
    }
   ]
  },
  {
   "geoTransforms": [
    {
     "latestWkid": 1241,
     "transformForward": false,
     "wkid": 108001,
     "name": "NAD_1927_To_NAD_1983_NADCON"
    }
   ]
  }
 ],
 "initialExtent": {
  "ymin": 2021577.8331135719,
  "xmin": 6351563.3646760155,
  "ymax": 2098976.153991513,
  "xmax": 6478247.5128716342,
  "spatialReference": {
   "falseM": -100000,
   "xyTolerance": 0.0010240000009536748,
   "mUnits": 10000,
   "zUnits": 1,
   "latestWkid": 2227,
   "zTolerance": 2,
   "wkid": 102643,
   "xyUnits": 35889940.5915489867,
   "mTolerance": 2,
   "falseX": -121983337.7909123,
   "falseY": -98043729.1982450783,
   "falseZ": 0
  }
 },
 "serviceDescription": "Basemap",
 "copyrightText": "",
 "supportsTimeRelation": true
}
